BEGIN:VCALENDAR
VERSION:2.0
PRODID:-//Santa Lucia Fly Fishers Club - ECPv6.15.20//NONSGML v1.0//EN
CALSCALE:GREGORIAN
METHOD:PUBLISH
X-ORIGINAL-URL:https://www.santaluciaflyfishers.com
X-WR-CALDESC:Events for Santa Lucia Fly Fishers Club
REFRESH-INTERVAL;VALUE=DURATION:PT1H
X-Robots-Tag:noindex
X-PUBLISHED-TTL:PT1H
BEGIN:VTIMEZONE
TZID:America/Los_Angeles
BEGIN:DAYLIGHT
TZOFFSETFROM:-0800
TZOFFSETTO:-0700
TZNAME:PDT
DTSTART:20210314T100000
END:DAYLIGHT
BEGIN:STANDARD
TZOFFSETFROM:-0700
TZOFFSETTO:-0800
TZNAME:PST
DTSTART:20211107T090000
END:STANDARD
BEGIN:DAYLIGHT
TZOFFSETFROM:-0800
TZOFFSETTO:-0700
TZNAME:PDT
DTSTART:20220313T100000
END:DAYLIGHT
BEGIN:STANDARD
TZOFFSETFROM:-0700
TZOFFSETTO:-0800
TZNAME:PST
DTSTART:20221106T090000
END:STANDARD
BEGIN:DAYLIGHT
TZOFFSETFROM:-0800
TZOFFSETTO:-0700
TZNAME:PDT
DTSTART:20230312T100000
END:DAYLIGHT
BEGIN:STANDARD
TZOFFSETFROM:-0700
TZOFFSETTO:-0800
TZNAME:PST
DTSTART:20231105T090000
END:STANDARD
BEGIN:DAYLIGHT
TZOFFSETFROM:-0800
TZOFFSETTO:-0700
TZNAME:PDT
DTSTART:20240310T100000
END:DAYLIGHT
BEGIN:STANDARD
TZOFFSETFROM:-0700
TZOFFSETTO:-0800
TZNAME:PST
DTSTART:20241103T090000
END:STANDARD
BEGIN:DAYLIGHT
TZOFFSETFROM:-0800
TZOFFSETTO:-0700
TZNAME:PDT
DTSTART:20250309T100000
END:DAYLIGHT
BEGIN:STANDARD
TZOFFSETFROM:-0700
TZOFFSETTO:-0800
TZNAME:PST
DTSTART:20251102T090000
END:STANDARD
BEGIN:DAYLIGHT
TZOFFSETFROM:-0800
TZOFFSETTO:-0700
TZNAME:PDT
DTSTART:20260308T100000
END:DAYLIGHT
BEGIN:STANDARD
TZOFFSETFROM:-0700
TZOFFSETTO:-0800
TZNAME:PST
DTSTART:20261101T090000
END:STANDARD
BEGIN:DAYLIGHT
TZOFFSETFROM:-0800
TZOFFSETTO:-0700
TZNAME:PDT
DTSTART:20270314T100000
END:DAYLIGHT
BEGIN:STANDARD
TZOFFSETFROM:-0700
TZOFFSETTO:-0800
TZNAME:PST
DTSTART:20271107T090000
END:STANDARD
END:VTIMEZONE
BEGIN:VEVENT
DTSTART;TZID=America/Los_Angeles:20260307T120000
DTEND;TZID=America/Los_Angeles:20260307T153000
DTSTAMP:20260420T075206
CREATED:20260101T180305Z
LAST-MODIFIED:20260101T180514Z
UID:10000215-1772884800-1772897400@www.santaluciaflyfishers.com
SUMMARY:Annual Banquet Featuring Speaker Dagur Gudmondson: " Fly Fishing Iceland and the Central Coast"
DESCRIPTION:
URL:https://www.santaluciaflyfishers.com/event/annual-banquet-featuring-speaker-dagur-gudmondson-fly-fishing-iceland-and-the-central-coast
LOCATION:Madonna Inn\, 100 Madonna Rd\, San Luis Obispo\, CA\, 93405\, United States
END:VEVENT
BEGIN:VEVENT
DTSTART;TZID=America/Los_Angeles:20250322T120000
DTEND;TZID=America/Los_Angeles:20250322T153000
DTSTAMP:20260420T075206
CREATED:20241229T204646Z
LAST-MODIFIED:20241229T210554Z
UID:10000188-1742644800-1742657400@www.santaluciaflyfishers.com
SUMMARY:Annual Banquet Featuring Guest Speaker Lance Gray: "The Feather River\, Lake Almanor\, Manzanita Lake"
DESCRIPTION:
URL:https://www.santaluciaflyfishers.com/event/annual-banquet-at-the-madonna-inn-lance-gray-northern-ca-waters-tour-the-feather-river-lake-almoner-manzanita-lake
LOCATION:Madonna Inn\, 100 Madonna Rd\, San Luis Obispo\, CA\, 93405\, United States
END:VEVENT
BEGIN:VEVENT
DTSTART;TZID=America/Los_Angeles:20240309T120000
DTEND;TZID=America/Los_Angeles:20240309T153000
DTSTAMP:20260420T075206
CREATED:20231226T211909Z
LAST-MODIFIED:20231226T211909Z
UID:10000151-1709985600-1709998200@www.santaluciaflyfishers.com
SUMMARY:Annual Banquet at The Madonna Inn with Doug Rodericks presenting "Fishing Eastern Sierra Still Waters". Members and their guests only.
DESCRIPTION:
URL:https://www.santaluciaflyfishers.com/event/annual-banquet-at-the-madonna-inn-with-doug-rodericks-presenting-fishing-eastern-sierra-still-waters-members-and-their-guests-only
LOCATION:Madonna Inn\, 100 Madonna Rd\, San Luis Obispo\, CA\, 93405\, United States
END:VEVENT
BEGIN:VEVENT
DTSTART;TZID=America/Los_Angeles:20230311T120000
DTEND;TZID=America/Los_Angeles:20230311T153000
DTSTAMP:20260420T075206
CREATED:20221023T163328Z
LAST-MODIFIED:20221211T214513Z
UID:10000105-1678536000-1678548600@www.santaluciaflyfishers.com
SUMMARY:Annual Banquet at The Madonna Inn with Greg Vinci: "Highway 395 Tour"
DESCRIPTION:
URL:https://www.santaluciaflyfishers.com/event/annual-banquet-at-the-madonna-inn
LOCATION:Madonna Inn\, 100 Madonna Rd\, San Luis Obispo\, CA\, 93405\, United States
END:VEVENT
BEGIN:VEVENT
DTSTART;VALUE=DATE:20220312
DTEND;VALUE=DATE:20220313
DTSTAMP:20260420T075206
CREATED:20211105T001657Z
LAST-MODIFIED:20220128T001643Z
UID:10000069-1647043200-1647129599@www.santaluciaflyfishers.com
SUMMARY:SLFF Annual Banquet/ Kesley Gallagher
DESCRIPTION:
URL:https://www.santaluciaflyfishers.com/event/slff-annual-banquet
LOCATION:Madonna Inn\, 100 Madonna Rd\, San Luis Obispo\, CA\, 93405\, United States
END:VEVENT
END:VCALENDAR