BEGIN:VCALENDAR
VERSION:2.0
PRODID:-//Santa Lucia Fly Fishers Club - ECPv6.15.20//NONSGML v1.0//EN
CALSCALE:GREGORIAN
METHOD:PUBLISH
X-WR-CALNAME:Santa Lucia Fly Fishers Club
X-ORIGINAL-URL:https://www.santaluciaflyfishers.com
X-WR-CALDESC:Events for Santa Lucia Fly Fishers Club
REFRESH-INTERVAL;VALUE=DURATION:PT1H
X-Robots-Tag:noindex
X-PUBLISHED-TTL:PT1H
BEGIN:VTIMEZONE
TZID:America/Los_Angeles
BEGIN:DAYLIGHT
TZOFFSETFROM:-0800
TZOFFSETTO:-0700
TZNAME:PDT
DTSTART:20210314T100000
END:DAYLIGHT
BEGIN:STANDARD
TZOFFSETFROM:-0700
TZOFFSETTO:-0800
TZNAME:PST
DTSTART:20211107T090000
END:STANDARD
BEGIN:DAYLIGHT
TZOFFSETFROM:-0800
TZOFFSETTO:-0700
TZNAME:PDT
DTSTART:20220313T100000
END:DAYLIGHT
BEGIN:STANDARD
TZOFFSETFROM:-0700
TZOFFSETTO:-0800
TZNAME:PST
DTSTART:20221106T090000
END:STANDARD
BEGIN:DAYLIGHT
TZOFFSETFROM:-0800
TZOFFSETTO:-0700
TZNAME:PDT
DTSTART:20230312T100000
END:DAYLIGHT
BEGIN:STANDARD
TZOFFSETFROM:-0700
TZOFFSETTO:-0800
TZNAME:PST
DTSTART:20231105T090000
END:STANDARD
BEGIN:DAYLIGHT
TZOFFSETFROM:-0800
TZOFFSETTO:-0700
TZNAME:PDT
DTSTART:20240310T100000
END:DAYLIGHT
BEGIN:STANDARD
TZOFFSETFROM:-0700
TZOFFSETTO:-0800
TZNAME:PST
DTSTART:20241103T090000
END:STANDARD
BEGIN:DAYLIGHT
TZOFFSETFROM:-0800
TZOFFSETTO:-0700
TZNAME:PDT
DTSTART:20250309T100000
END:DAYLIGHT
BEGIN:STANDARD
TZOFFSETFROM:-0700
TZOFFSETTO:-0800
TZNAME:PST
DTSTART:20251102T090000
END:STANDARD
BEGIN:DAYLIGHT
TZOFFSETFROM:-0800
TZOFFSETTO:-0700
TZNAME:PDT
DTSTART:20260308T100000
END:DAYLIGHT
BEGIN:STANDARD
TZOFFSETFROM:-0700
TZOFFSETTO:-0800
TZNAME:PST
DTSTART:20261101T090000
END:STANDARD
BEGIN:DAYLIGHT
TZOFFSETFROM:-0800
TZOFFSETTO:-0700
TZNAME:PDT
DTSTART:20270314T100000
END:DAYLIGHT
BEGIN:STANDARD
TZOFFSETFROM:-0700
TZOFFSETTO:-0800
TZNAME:PST
DTSTART:20271107T090000
END:STANDARD
END:VTIMEZONE
BEGIN:VEVENT
DTSTART;TZID=America/Los_Angeles:20260331T080000
DTEND;TZID=America/Los_Angeles:20260331T140000
DTSTAMP:20260420T080812
CREATED:20260310T181738Z
LAST-MODIFIED:20260310T185229Z
UID:10000226-1774944000-1774965600@www.santaluciaflyfishers.com
SUMMARY:SRR March 31 8am
DESCRIPTION:SRR March 31 8am
URL:https://www.santaluciaflyfishers.com/event/srr-march-31-8am
LOCATION:SRR – Members only event\, 3520 Old Creek Rd.\, Templeton\, CA\, 93465\, United States
CATEGORIES:SRR
END:VEVENT
BEGIN:VEVENT
DTSTART;TZID=America/Los_Angeles:20250523T080000
DTEND;TZID=America/Los_Angeles:20250523T140000
DTSTAMP:20260420T080812
CREATED:20250425T001354Z
LAST-MODIFIED:20250425T001354Z
UID:10000211-1747987200-1748008800@www.santaluciaflyfishers.com
SUMMARY:Santa Rita Ranch Fish Survey Friday May 23 at 8 am
DESCRIPTION:Santa Rita Ranch Fish Survey May 23 at 8 am \nDon’t forget to complete the Land Conservancy’s Annual Liability Waiver for 2025 before coming to SRR.  The Gate Keeper will be unable to admit you unless it has been submitted.  Additionally\, attendees are required to complete the fish survey after fishing.  Please read the SRR info on the club website before your first visit to SRR. \nWaiting lists are available for each event in case of cancellations.   To place your name on the waiting list contact the organizer/gatekeeper for that event.  If you cannot attend\, please inform the gatekeeper ASAP so your spot can be filled. \nRSVPs close at midnight two days before the event.
URL:https://www.santaluciaflyfishers.com/event/santa-rita-ranch-fish-survey-friday-may-23-at-8-am
LOCATION:SRR – Members only event\, 3520 Old Creek Rd.\, Templeton\, CA\, 93465\, United States
CATEGORIES:SRR
END:VEVENT
BEGIN:VEVENT
DTSTART;TZID=America/Los_Angeles:20240425T073000
DTEND;TZID=America/Los_Angeles:20240425T133000
DTSTAMP:20260420T080812
CREATED:20240330T195520Z
LAST-MODIFIED:20240403T112405Z
UID:10000169-1714030200-1714051800@www.santaluciaflyfishers.com
SUMMARY:Santa Rita Ranch Fish Survey Thursday April 25th\, 2024 7:30AM
DESCRIPTION:Santa Rita Ranch Fish Survey Thursday April 25th\, 2024 7:30 AM. \nDon’t forget to complete the Land Conservancy’s Annual Liability Waiver for 2024 before coming to SRR.  The Gate Keeper will be unable to admit you unless it has been submitted.  Additionally\, attendees are required to complete the fish survey after fishing.  Please read the SRR info on the club website before your first visit to SRR. \nWaiting lists are available for each event in case of cancellations.   To place your name on the waiting list contact the organizer/gatekeeper for that event.  If you cannot attend\, please inform the gatekeeper ASAP so your spot can be filled. \nPlease limit your SRR signups to once per month.  Additional outings are allowed space permitting via the waiting list. \nRSVPs close at midnight two days before the event.
URL:https://www.santaluciaflyfishers.com/event/santa-rita-ranch-fish-survey-thursday-april-25th-2024-730am
LOCATION:SRR – Members only event\, 3520 Old Creek Rd.\, Templeton\, CA\, 93465\, United States
CATEGORIES:SRR
END:VEVENT
BEGIN:VEVENT
DTSTART;TZID=America/Los_Angeles:20230325T080000
DTEND;TZID=America/Los_Angeles:20230325T140000
DTSTAMP:20260420T080812
CREATED:20230220T143643Z
LAST-MODIFIED:20230220T143643Z
UID:10000125-1679731200-1679752800@www.santaluciaflyfishers.com
SUMMARY:Santa Rita Ranch 3/25 8am to 2pm
DESCRIPTION:
URL:https://www.santaluciaflyfishers.com/event/santa-rita-ranch-3-25-8am-to-2pm
LOCATION:SRR – Members only event\, 3520 Old Creek Rd.\, Templeton\, CA\, 93465\, United States
CATEGORIES:SRR
END:VEVENT
BEGIN:VEVENT
DTSTART;TZID=America/Los_Angeles:20220514T080000
DTEND;TZID=America/Los_Angeles:20220514T130000
DTSTAMP:20260420T080812
CREATED:20220430T124111Z
LAST-MODIFIED:20221010T193445Z
UID:10000086-1652515200-1652533200@www.santaluciaflyfishers.com
SUMMARY:SRR 5/14
DESCRIPTION:
URL:https://www.santaluciaflyfishers.com/event/srr-5-14
LOCATION:SRR – Members only event\, 3520 Old Creek Rd.\, Templeton\, CA\, 93465\, United States
END:VEVENT
END:VCALENDAR