BEGIN:VCALENDAR
VERSION:2.0
PRODID:-//Santa Lucia Fly Fishers Club - ECPv6.15.20//NONSGML v1.0//EN
CALSCALE:GREGORIAN
METHOD:PUBLISH
X-ORIGINAL-URL:https://www.santaluciaflyfishers.com
X-WR-CALDESC:Events for Santa Lucia Fly Fishers Club
REFRESH-INTERVAL;VALUE=DURATION:PT1H
X-Robots-Tag:noindex
X-PUBLISHED-TTL:PT1H
BEGIN:VTIMEZONE
TZID:America/Los_Angeles
BEGIN:DAYLIGHT
TZOFFSETFROM:-0800
TZOFFSETTO:-0700
TZNAME:PDT
DTSTART:20210314T100000
END:DAYLIGHT
BEGIN:STANDARD
TZOFFSETFROM:-0700
TZOFFSETTO:-0800
TZNAME:PST
DTSTART:20211107T090000
END:STANDARD
BEGIN:DAYLIGHT
TZOFFSETFROM:-0800
TZOFFSETTO:-0700
TZNAME:PDT
DTSTART:20220313T100000
END:DAYLIGHT
BEGIN:STANDARD
TZOFFSETFROM:-0700
TZOFFSETTO:-0800
TZNAME:PST
DTSTART:20221106T090000
END:STANDARD
BEGIN:DAYLIGHT
TZOFFSETFROM:-0800
TZOFFSETTO:-0700
TZNAME:PDT
DTSTART:20230312T100000
END:DAYLIGHT
BEGIN:STANDARD
TZOFFSETFROM:-0700
TZOFFSETTO:-0800
TZNAME:PST
DTSTART:20231105T090000
END:STANDARD
BEGIN:DAYLIGHT
TZOFFSETFROM:-0800
TZOFFSETTO:-0700
TZNAME:PDT
DTSTART:20240310T100000
END:DAYLIGHT
BEGIN:STANDARD
TZOFFSETFROM:-0700
TZOFFSETTO:-0800
TZNAME:PST
DTSTART:20241103T090000
END:STANDARD
BEGIN:DAYLIGHT
TZOFFSETFROM:-0800
TZOFFSETTO:-0700
TZNAME:PDT
DTSTART:20250309T100000
END:DAYLIGHT
BEGIN:STANDARD
TZOFFSETFROM:-0700
TZOFFSETTO:-0800
TZNAME:PST
DTSTART:20251102T090000
END:STANDARD
END:VTIMEZONE
BEGIN:VEVENT
DTSTART;TZID=America/Los_Angeles:20240605T070000
DTEND;TZID=America/Los_Angeles:20240605T130000
DTSTAMP:20260420T081214
CREATED:20240520T140149Z
LAST-MODIFIED:20240523T171656Z
UID:10000177-1717570800-1717592400@www.santaluciaflyfishers.com
SUMMARY:Santa Rita Ranch Fish Survey Wednesday June 5th 7AM
DESCRIPTION:Santa Rita Ranch Fish Survey June 5th\, 2024\, 7AM. \nDon’t forget to complete the Land Conservancy’s Annual Liability Waiver for 2024 before coming to SRR.  The Gate Keeper will be unable to admit you unless it has been submitted.  Additionally\, attendees are required to complete the fish survey after fishing.  Please read the SRR info on the club website before your first visit to SRR. \nWaiting lists are available for each event in case of cancellations.   To place your name on the waiting list contact the organizer/gatekeeper for that event.  If you cannot attend\, please inform the gatekeeper ASAP so your spot can be filled. \nPlease limit your SRR signups to once per month.  Additional outings are allowed space permitting via the waiting list. \nRSVPs close at midnight two days before the event.
URL:https://www.santaluciaflyfishers.com/event/santa-rita-ranch-fish-survey-wednesday-june-5th-7am
LOCATION:SRR – Members only event\, 3520 Old Creek Rd.\, Templeton\, CA\, 93465\, United States
CATEGORIES:SRR
END:VEVENT
BEGIN:VEVENT
DTSTART;TZID=America/Los_Angeles:20240511T070000
DTEND;TZID=America/Los_Angeles:20240511T130000
DTSTAMP:20260420T081214
CREATED:20240420T211700Z
LAST-MODIFIED:20240423T191043Z
UID:10000172-1715410800-1715432400@www.santaluciaflyfishers.com
SUMMARY:Santa Rita Ranch Fish Survey Saturday May 11\, 2024 7:00 AM
DESCRIPTION:Santa Rita Ranch Fish Survey May 11\, 2024. \nDon’t forget to complete the Land Conservancy’s Annual Liability Waiver for 2024 before coming to SRR.  The Gate Keeper will be unable to admit you unless it has been submitted.  Additionally\, attendees are required to complete the fish survey after fishing.  Please read the SRR info on the club website before your first visit to SRR. \nWaiting lists are available for each event in case of cancellations.   To place your name on the waiting list contact the organizer/gatekeeper for that event.  If you cannot attend\, please inform the gatekeeper ASAP so your spot can be filled. \nPlease limit your SRR signups to once per month.  Additional outings are allowed space permitting via the waiting list. \nRSVPs close at midnight two days before the event.
URL:https://www.santaluciaflyfishers.com/event/santa-rita-ranch-fish-survey-saturday-may-11-2024-700-am
LOCATION:SRR – Members only event\, 3520 Old Creek Rd.\, Templeton\, CA\, 93465\, United States
CATEGORIES:SRR
END:VEVENT
BEGIN:VEVENT
DTSTART;TZID=America/Los_Angeles:20240321T073000
DTEND;TZID=America/Los_Angeles:20240321T133000
DTSTAMP:20260420T081214
CREATED:20240310T224610Z
LAST-MODIFIED:20240310T235736Z
UID:10000162-1711006200-1711027800@www.santaluciaflyfishers.com
SUMMARY:Santa Rita Ranch March 21\, 2024 0730 AM
DESCRIPTION:Santa Rita Ranch March 21\, 2024 0730 \nD0n’t forget to complete the Land Conservancy’s Annual Liability Waiver for 2024.  The Gate Keeper will be unable to admit you unless it has been submitted.
URL:https://www.santaluciaflyfishers.com/event/santa-rita-ranch-march-21-2024-0730-am
LOCATION:SRR – Members only event\, 3520 Old Creek Rd.\, Templeton\, CA\, 93465\, United States
CATEGORIES:SRR
END:VEVENT
BEGIN:VEVENT
DTSTART;TZID=America/Los_Angeles:20230316T080000
DTEND;TZID=America/Los_Angeles:20230316T140000
DTSTAMP:20260420T081214
CREATED:20230220T143449Z
LAST-MODIFIED:20230220T143449Z
UID:10000124-1678953600-1678975200@www.santaluciaflyfishers.com
SUMMARY:Santa Rita Ranch 3/16 8am to 2pm
DESCRIPTION:
URL:https://www.santaluciaflyfishers.com/event/santa-rita-ranch-3-16-8am-to-2pm
LOCATION:SRR – Members only event\, 3520 Old Creek Rd.\, Templeton\, CA\, 93465\, United States
CATEGORIES:SRR
END:VEVENT
BEGIN:VEVENT
DTSTART;TZID=America/Los_Angeles:20220705T160000
DTEND;TZID=America/Los_Angeles:20220705T210000
DTSTAMP:20260420T081214
CREATED:20220629T212207Z
LAST-MODIFIED:20221010T193303Z
UID:10000093-1657036800-1657054800@www.santaluciaflyfishers.com
SUMMARY:SRR 7/5  4pm to 9pm
DESCRIPTION:
URL:https://www.santaluciaflyfishers.com/event/srr-7-5-4pm-to-9pm
LOCATION:SRR – Members only event\, 3520 Old Creek Rd.\, Templeton\, CA\, 93465\, United States
END:VEVENT
BEGIN:VEVENT
DTSTART;TZID=America/Los_Angeles:20220621T070000
DTEND;TZID=America/Los_Angeles:20220621T130000
DTSTAMP:20260420T081214
CREATED:20220531T225438Z
LAST-MODIFIED:20221010T193314Z
UID:10000091-1655794800-1655816400@www.santaluciaflyfishers.com
SUMMARY:SRR 6/21  7AM TO 1PM
DESCRIPTION:
URL:https://www.santaluciaflyfishers.com/event/srr-6-21-7am-to-1pm
LOCATION:SRR – Members only event\, 3520 Old Creek Rd.\, Templeton\, CA\, 93465\, United States
END:VEVENT
BEGIN:VEVENT
DTSTART;TZID=America/Los_Angeles:20220524T070000
DTEND;TZID=America/Los_Angeles:20220524T130000
DTSTAMP:20260420T081214
CREATED:20220430T123939Z
LAST-MODIFIED:20221010T193400Z
UID:10000083-1653375600-1653397200@www.santaluciaflyfishers.com
SUMMARY:SRR 5/24
DESCRIPTION:
URL:https://www.santaluciaflyfishers.com/event/srr-5-24
LOCATION:SRR – Members only event\, 3520 Old Creek Rd.\, Templeton\, CA\, 93465\, United States
END:VEVENT
BEGIN:VEVENT
DTSTART;TZID=America/Los_Angeles:20220517T070000
DTEND;TZID=America/Los_Angeles:20220517T130000
DTSTAMP:20260420T081214
CREATED:20220430T124032Z
LAST-MODIFIED:20221010T193421Z
UID:10000085-1652770800-1652792400@www.santaluciaflyfishers.com
SUMMARY:SRR 5/17
DESCRIPTION:
URL:https://www.santaluciaflyfishers.com/event/srr-5-17
LOCATION:SRR – Members only event\, 3520 Old Creek Rd.\, Templeton\, CA\, 93465\, United States
END:VEVENT
END:VCALENDAR