BEGIN:VCALENDAR
VERSION:2.0
PRODID:-//Santa Lucia Fly Fishers Club - ECPv6.15.20//NONSGML v1.0//EN
CALSCALE:GREGORIAN
METHOD:PUBLISH
X-WR-CALNAME:Santa Lucia Fly Fishers Club
X-ORIGINAL-URL:https://www.santaluciaflyfishers.com
X-WR-CALDESC:Events for Santa Lucia Fly Fishers Club
REFRESH-INTERVAL;VALUE=DURATION:PT1H
X-Robots-Tag:noindex
X-PUBLISHED-TTL:PT1H
BEGIN:VTIMEZONE
TZID:America/Los_Angeles
BEGIN:DAYLIGHT
TZOFFSETFROM:-0800
TZOFFSETTO:-0700
TZNAME:PDT
DTSTART:20240310T100000
END:DAYLIGHT
BEGIN:STANDARD
TZOFFSETFROM:-0700
TZOFFSETTO:-0800
TZNAME:PST
DTSTART:20241103T090000
END:STANDARD
BEGIN:DAYLIGHT
TZOFFSETFROM:-0800
TZOFFSETTO:-0700
TZNAME:PDT
DTSTART:20250309T100000
END:DAYLIGHT
BEGIN:STANDARD
TZOFFSETFROM:-0700
TZOFFSETTO:-0800
TZNAME:PST
DTSTART:20251102T090000
END:STANDARD
BEGIN:DAYLIGHT
TZOFFSETFROM:-0800
TZOFFSETTO:-0700
TZNAME:PDT
DTSTART:20260308T100000
END:DAYLIGHT
BEGIN:STANDARD
TZOFFSETFROM:-0700
TZOFFSETTO:-0800
TZNAME:PST
DTSTART:20261101T090000
END:STANDARD
BEGIN:DAYLIGHT
TZOFFSETFROM:-0800
TZOFFSETTO:-0700
TZNAME:PDT
DTSTART:20270314T100000
END:DAYLIGHT
BEGIN:STANDARD
TZOFFSETFROM:-0700
TZOFFSETTO:-0800
TZNAME:PST
DTSTART:20271107T090000
END:STANDARD
END:VTIMEZONE
BEGIN:VEVENT
DTSTART;TZID=America/Los_Angeles:20250508T073000
DTEND;TZID=America/Los_Angeles:20250508T133000
DTSTAMP:20260421T123828
CREATED:20250425T000749Z
LAST-MODIFIED:20250425T000846Z
UID:10000209-1746689400-1746711000@www.santaluciaflyfishers.com
SUMMARY:Santa Rita Ranch Fish Survey Thursday May 8 at 7:30 am
DESCRIPTION:Santa Rita Ranch Fish Survey May 8 at 7:30 am \nDon’t forget to complete the Land Conservancy’s Annual Liability Waiver for 2025 before coming to SRR.  The Gate Keeper will be unable to admit you unless it has been submitted.  Additionally\, attendees are required to complete the fish survey after fishing.  Please read the SRR info on the club website before your first visit to SRR. \nWaiting lists are available for each event in case of cancellations.   To place your name on the waiting list contact the organizer/gatekeeper for that event.  If you cannot attend\, please inform the gatekeeper ASAP so your spot can be filled. \nRSVPs close at midnight two days before the event.
URL:https://www.santaluciaflyfishers.com/event/santa-rita-ranch-fish-survey-thursday-may-8-at-730-am
LOCATION:SRR – Members only event\, 3520 Old Creek Rd.\, Templeton\, CA\, 93465\, United States
CATEGORIES:SRR
END:VEVENT
BEGIN:VEVENT
DTSTART;TZID=America/Los_Angeles:20250517T080000
DTEND;TZID=America/Los_Angeles:20250517T140000
DTSTAMP:20260421T123828
CREATED:20250425T001115Z
LAST-MODIFIED:20250425T170302Z
UID:10000210-1747468800-1747490400@www.santaluciaflyfishers.com
SUMMARY:Santa Rita Ranch Fish Survey Saturday May 17 at 8 am
DESCRIPTION:Santa Rita Ranch Fish Survey May 17 at 8 am \nDon’t forget to complete the Land Conservancy’s Annual Liability Waiver for 2025 before coming to SRR.  The Gate Keeper will be unable to admit you unless it has been submitted.  Additionally\, attendees are required to complete the fish survey after fishing.  Please read the SRR info on the club website before your first visit to SRR. \nWaiting lists are available for each event in case of cancellations.   To place your name on the waiting list contact the organizer/gatekeeper for that event.  If you cannot attend\, please inform the gatekeeper ASAP so your spot can be filled. \nRSVPs close at midnight two days before the event.
URL:https://www.santaluciaflyfishers.com/event/santa-rita-ranch-fish-survey-saturday-may-17-at-8-am
LOCATION:SRR – Members only event\, 3520 Old Creek Rd.\, Templeton\, CA\, 93465\, United States
CATEGORIES:SRR
END:VEVENT
BEGIN:VEVENT
DTSTART;TZID=America/Los_Angeles:20250523T080000
DTEND;TZID=America/Los_Angeles:20250523T140000
DTSTAMP:20260421T123828
CREATED:20250425T001354Z
LAST-MODIFIED:20250425T001354Z
UID:10000211-1747987200-1748008800@www.santaluciaflyfishers.com
SUMMARY:Santa Rita Ranch Fish Survey Friday May 23 at 8 am
DESCRIPTION:Santa Rita Ranch Fish Survey May 23 at 8 am \nDon’t forget to complete the Land Conservancy’s Annual Liability Waiver for 2025 before coming to SRR.  The Gate Keeper will be unable to admit you unless it has been submitted.  Additionally\, attendees are required to complete the fish survey after fishing.  Please read the SRR info on the club website before your first visit to SRR. \nWaiting lists are available for each event in case of cancellations.   To place your name on the waiting list contact the organizer/gatekeeper for that event.  If you cannot attend\, please inform the gatekeeper ASAP so your spot can be filled. \nRSVPs close at midnight two days before the event.
URL:https://www.santaluciaflyfishers.com/event/santa-rita-ranch-fish-survey-friday-may-23-at-8-am
LOCATION:SRR – Members only event\, 3520 Old Creek Rd.\, Templeton\, CA\, 93465\, United States
CATEGORIES:SRR
END:VEVENT
BEGIN:VEVENT
DTSTART;TZID=America/Los_Angeles:20250529T080000
DTEND;TZID=America/Los_Angeles:20250529T140000
DTSTAMP:20260421T123828
CREATED:20250425T001525Z
LAST-MODIFIED:20250425T001643Z
UID:10000212-1748505600-1748527200@www.santaluciaflyfishers.com
SUMMARY:Santa Rita Ranch Fish Survey Thursday May 29 at 8 am
DESCRIPTION:Santa Rita Ranch Fish Survey May 29 at 8 am \nDon’t forget to complete the Land Conservancy’s Annual Liability Waiver for 2025 before coming to SRR.  The Gate Keeper will be unable to admit you unless it has been submitted.  Additionally\, attendees are required to complete the fish survey after fishing.  Please read the SRR info on the club website before your first visit to SRR. \nWaiting lists are available for each event in case of cancellations.   To place your name on the waiting list contact the organizer/gatekeeper for that event.  If you cannot attend\, please inform the gatekeeper ASAP so your spot can be filled. \nRSVPs close at midnight two days before the event.
URL:https://www.santaluciaflyfishers.com/event/santa-rita-ranch-fish-survey-friday-may-23-at-8-am-2
LOCATION:SRR – Members only event\, 3520 Old Creek Rd.\, Templeton\, CA\, 93465\, United States
CATEGORIES:SRR
ORGANIZER;CN="Rich Jensen":MAILTO:B727rj@gmail.com
END:VEVENT
BEGIN:VEVENT
DTSTART;TZID=America/Los_Angeles:20260316T080000
DTEND;TZID=America/Los_Angeles:20260316T140000
DTSTAMP:20260421T123828
CREATED:20260310T180353Z
LAST-MODIFIED:20260310T180353Z
UID:10000225-1773648000-1773669600@www.santaluciaflyfishers.com
SUMMARY:SRR March 16 at 8am
DESCRIPTION:Santa Rita Ranch March 16 at 8am
URL:https://www.santaluciaflyfishers.com/event/srr-march-16-at-8am
LOCATION:SRR – Members only event\, 3520 Old Creek Rd.\, Templeton\, CA\, 93465\, United States
CATEGORIES:SRR
END:VEVENT
BEGIN:VEVENT
DTSTART;TZID=America/Los_Angeles:20260325T080000
DTEND;TZID=America/Los_Angeles:20260325T140000
DTSTAMP:20260421T123828
CREATED:20260310T180801Z
LAST-MODIFIED:20260312T181146Z
UID:10000228-1774425600-1774447200@www.santaluciaflyfishers.com
SUMMARY:SRR March 25 8am
DESCRIPTION:SRR March 25 8am
URL:https://www.santaluciaflyfishers.com/event/srr-march-25-8am
LOCATION:SRR – Members only event\, 3520 Old Creek Rd.\, Templeton\, CA\, 93465\, United States
CATEGORIES:SRR
ORGANIZER;CN="Rich Jensen":MAILTO:B727rj@gmail.com
END:VEVENT
BEGIN:VEVENT
DTSTART;TZID=America/Los_Angeles:20260331T080000
DTEND;TZID=America/Los_Angeles:20260331T140000
DTSTAMP:20260421T123828
CREATED:20260310T181738Z
LAST-MODIFIED:20260310T185229Z
UID:10000226-1774944000-1774965600@www.santaluciaflyfishers.com
SUMMARY:SRR March 31 8am
DESCRIPTION:SRR March 31 8am
URL:https://www.santaluciaflyfishers.com/event/srr-march-31-8am
LOCATION:SRR – Members only event\, 3520 Old Creek Rd.\, Templeton\, CA\, 93465\, United States
CATEGORIES:SRR
END:VEVENT
BEGIN:VEVENT
DTSTART;TZID=America/Los_Angeles:20260407T080000
DTEND;TZID=America/Los_Angeles:20260407T140000
DTSTAMP:20260421T123828
CREATED:20260318T231319Z
LAST-MODIFIED:20260318T231319Z
UID:10000230-1775548800-1775570400@www.santaluciaflyfishers.com
SUMMARY:SRR April 7th 8am
DESCRIPTION:Santa Rita Ranch April 7th 8am
URL:https://www.santaluciaflyfishers.com/event/srr-april-7th-8am
LOCATION:SRR – Members only event\, 3520 Old Creek Rd.\, Templeton\, CA\, 93465\, United States
CATEGORIES:SRR
END:VEVENT
BEGIN:VEVENT
DTSTART;TZID=America/Los_Angeles:20260411T080000
DTEND;TZID=America/Los_Angeles:20260411T140000
DTSTAMP:20260421T123828
CREATED:20260318T231104Z
LAST-MODIFIED:20260318T231104Z
UID:10000231-1775894400-1775916000@www.santaluciaflyfishers.com
SUMMARY:SRR April 11th 8am
DESCRIPTION:SRR April 11th 8am
URL:https://www.santaluciaflyfishers.com/event/srr-april-11th-8am
LOCATION:SRR – Members only event\, 3520 Old Creek Rd.\, Templeton\, CA\, 93465\, United States
CATEGORIES:SRR
ORGANIZER;CN="Terry Croxton":MAILTO:tcroxton10@gmail.com
END:VEVENT
BEGIN:VEVENT
DTSTART;TZID=America/Los_Angeles:20260416T080000
DTEND;TZID=America/Los_Angeles:20260416T140000
DTSTAMP:20260421T123828
CREATED:20260318T230959Z
LAST-MODIFIED:20260318T230959Z
UID:10000232-1776326400-1776348000@www.santaluciaflyfishers.com
SUMMARY:SRR April 16th 8am
DESCRIPTION:SRR April 16th 8am
URL:https://www.santaluciaflyfishers.com/event/srr-april-16th-8am
LOCATION:SRR – Members only event\, 3520 Old Creek Rd.\, Templeton\, CA\, 93465\, United States
CATEGORIES:SRR
END:VEVENT
BEGIN:VEVENT
DTSTART;TZID=America/Los_Angeles:20260421T080000
DTEND;TZID=America/Los_Angeles:20260421T140000
DTSTAMP:20260421T123828
CREATED:20260318T231503Z
LAST-MODIFIED:20260318T231503Z
UID:10000233-1776758400-1776780000@www.santaluciaflyfishers.com
SUMMARY:SRR April 21st 8am
DESCRIPTION:SRR April 21st 8am
URL:https://www.santaluciaflyfishers.com/event/srr-april-21st-8am
LOCATION:SRR – Members only event\, 3520 Old Creek Rd.\, Templeton\, CA\, 93465\, United States
CATEGORIES:SRR
END:VEVENT
BEGIN:VEVENT
DTSTART;TZID=America/Los_Angeles:20260430T080000
DTEND;TZID=America/Los_Angeles:20260430T140000
DTSTAMP:20260421T123828
CREATED:20260318T231624Z
LAST-MODIFIED:20260318T231624Z
UID:10000234-1777536000-1777557600@www.santaluciaflyfishers.com
SUMMARY:SRR April 30th 8am Women Only Event
DESCRIPTION:SRR April 30th 8am Women Only Event
URL:https://www.santaluciaflyfishers.com/event/srr-april-30th-8am-women-only-event
LOCATION:SRR – Members only event\, 3520 Old Creek Rd.\, Templeton\, CA\, 93465\, United States
CATEGORIES:SRR
ORGANIZER;CN="Glynis Tinglof":MAILTO:gct_art@yahoo.com
END:VEVENT
BEGIN:VEVENT
DTSTART;TZID=America/Los_Angeles:20260504T080000
DTEND;TZID=America/Los_Angeles:20260504T140000
DTSTAMP:20260421T123828
CREATED:20260415T202016Z
LAST-MODIFIED:20260415T202456Z
UID:10000236-1777881600-1777903200@www.santaluciaflyfishers.com
SUMMARY:SRR May 4  8 am
DESCRIPTION:SRR May 4 8 am
URL:https://www.santaluciaflyfishers.com/event/srr-may-4-8-am
LOCATION:SRR – Members only event\, 3520 Old Creek Rd.\, Templeton\, CA\, 93465\, United States
CATEGORIES:SRR
END:VEVENT
END:VCALENDAR