BEGIN:VCALENDAR
VERSION:2.0
PRODID:-//Santa Lucia Fly Fishers Club - ECPv6.15.20//NONSGML v1.0//EN
CALSCALE:GREGORIAN
METHOD:PUBLISH
X-ORIGINAL-URL:https://www.santaluciaflyfishers.com
X-WR-CALDESC:Events for Santa Lucia Fly Fishers Club
REFRESH-INTERVAL;VALUE=DURATION:PT1H
X-Robots-Tag:noindex
X-PUBLISHED-TTL:PT1H
BEGIN:VTIMEZONE
TZID:America/Los_Angeles
BEGIN:DAYLIGHT
TZOFFSETFROM:-0800
TZOFFSETTO:-0700
TZNAME:PDT
DTSTART:20250309T100000
END:DAYLIGHT
BEGIN:STANDARD
TZOFFSETFROM:-0700
TZOFFSETTO:-0800
TZNAME:PST
DTSTART:20251102T090000
END:STANDARD
BEGIN:DAYLIGHT
TZOFFSETFROM:-0800
TZOFFSETTO:-0700
TZNAME:PDT
DTSTART:20260308T100000
END:DAYLIGHT
BEGIN:STANDARD
TZOFFSETFROM:-0700
TZOFFSETTO:-0800
TZNAME:PST
DTSTART:20261101T090000
END:STANDARD
BEGIN:DAYLIGHT
TZOFFSETFROM:-0800
TZOFFSETTO:-0700
TZNAME:PDT
DTSTART:20270314T100000
END:DAYLIGHT
BEGIN:STANDARD
TZOFFSETFROM:-0700
TZOFFSETTO:-0800
TZNAME:PST
DTSTART:20271107T090000
END:STANDARD
END:VTIMEZONE
BEGIN:VEVENT
DTSTART;TZID=America/Los_Angeles:20260316T080000
DTEND;TZID=America/Los_Angeles:20260316T140000
DTSTAMP:20260420T075203
CREATED:20260310T180353Z
LAST-MODIFIED:20260310T180353Z
UID:10000225-1773648000-1773669600@www.santaluciaflyfishers.com
SUMMARY:SRR March 16 at 8am
DESCRIPTION:Santa Rita Ranch March 16 at 8am
URL:https://www.santaluciaflyfishers.com/event/srr-march-16-at-8am
LOCATION:SRR – Members only event\, 3520 Old Creek Rd.\, Templeton\, CA\, 93465\, United States
CATEGORIES:SRR
END:VEVENT
BEGIN:VEVENT
DTSTART;TZID=America/Los_Angeles:20260325T080000
DTEND;TZID=America/Los_Angeles:20260325T140000
DTSTAMP:20260420T075203
CREATED:20260310T180801Z
LAST-MODIFIED:20260312T181146Z
UID:10000228-1774425600-1774447200@www.santaluciaflyfishers.com
SUMMARY:SRR March 25 8am
DESCRIPTION:SRR March 25 8am
URL:https://www.santaluciaflyfishers.com/event/srr-march-25-8am
LOCATION:SRR – Members only event\, 3520 Old Creek Rd.\, Templeton\, CA\, 93465\, United States
CATEGORIES:SRR
ORGANIZER;CN="Rich Jensen":MAILTO:B727rj@gmail.com
END:VEVENT
BEGIN:VEVENT
DTSTART;TZID=America/Los_Angeles:20260331T080000
DTEND;TZID=America/Los_Angeles:20260331T140000
DTSTAMP:20260420T075203
CREATED:20260310T181738Z
LAST-MODIFIED:20260310T185229Z
UID:10000226-1774944000-1774965600@www.santaluciaflyfishers.com
SUMMARY:SRR March 31 8am
DESCRIPTION:SRR March 31 8am
URL:https://www.santaluciaflyfishers.com/event/srr-march-31-8am
LOCATION:SRR – Members only event\, 3520 Old Creek Rd.\, Templeton\, CA\, 93465\, United States
CATEGORIES:SRR
END:VEVENT
END:VCALENDAR