BEGIN:VCALENDAR
VERSION:2.0
PRODID:-//Santa Lucia Fly Fishers Club - ECPv6.15.20//NONSGML v1.0//EN
CALSCALE:GREGORIAN
METHOD:PUBLISH
X-ORIGINAL-URL:https://www.santaluciaflyfishers.com
X-WR-CALDESC:Events for Santa Lucia Fly Fishers Club
REFRESH-INTERVAL;VALUE=DURATION:PT1H
X-Robots-Tag:noindex
X-PUBLISHED-TTL:PT1H
BEGIN:VTIMEZONE
TZID:America/Los_Angeles
BEGIN:DAYLIGHT
TZOFFSETFROM:-0800
TZOFFSETTO:-0700
TZNAME:PDT
DTSTART:20230312T100000
END:DAYLIGHT
BEGIN:STANDARD
TZOFFSETFROM:-0700
TZOFFSETTO:-0800
TZNAME:PST
DTSTART:20231105T090000
END:STANDARD
BEGIN:DAYLIGHT
TZOFFSETFROM:-0800
TZOFFSETTO:-0700
TZNAME:PDT
DTSTART:20240310T100000
END:DAYLIGHT
BEGIN:STANDARD
TZOFFSETFROM:-0700
TZOFFSETTO:-0800
TZNAME:PST
DTSTART:20241103T090000
END:STANDARD
BEGIN:DAYLIGHT
TZOFFSETFROM:-0800
TZOFFSETTO:-0700
TZNAME:PDT
DTSTART:20250309T100000
END:DAYLIGHT
BEGIN:STANDARD
TZOFFSETFROM:-0700
TZOFFSETTO:-0800
TZNAME:PST
DTSTART:20251102T090000
END:STANDARD
END:VTIMEZONE
BEGIN:VEVENT
DTSTART;TZID=America/Los_Angeles:20240605T070000
DTEND;TZID=America/Los_Angeles:20240605T130000
DTSTAMP:20260422T003513
CREATED:20240520T140149Z
LAST-MODIFIED:20240523T171656Z
UID:10000177-1717570800-1717592400@www.santaluciaflyfishers.com
SUMMARY:Santa Rita Ranch Fish Survey Wednesday June 5th 7AM
DESCRIPTION:Santa Rita Ranch Fish Survey June 5th\, 2024\, 7AM. \nDon’t forget to complete the Land Conservancy’s Annual Liability Waiver for 2024 before coming to SRR.  The Gate Keeper will be unable to admit you unless it has been submitted.  Additionally\, attendees are required to complete the fish survey after fishing.  Please read the SRR info on the club website before your first visit to SRR. \nWaiting lists are available for each event in case of cancellations.   To place your name on the waiting list contact the organizer/gatekeeper for that event.  If you cannot attend\, please inform the gatekeeper ASAP so your spot can be filled. \nPlease limit your SRR signups to once per month.  Additional outings are allowed space permitting via the waiting list. \nRSVPs close at midnight two days before the event.
URL:https://www.santaluciaflyfishers.com/event/santa-rita-ranch-fish-survey-wednesday-june-5th-7am
LOCATION:SRR – Members only event\, 3520 Old Creek Rd.\, Templeton\, CA\, 93465\, United States
CATEGORIES:SRR
END:VEVENT
BEGIN:VEVENT
DTSTART;TZID=America/Los_Angeles:20240608T070000
DTEND;TZID=America/Los_Angeles:20240608T130000
DTSTAMP:20260422T003513
CREATED:20240523T171729Z
LAST-MODIFIED:20240523T171729Z
UID:10000178-1717830000-1717851600@www.santaluciaflyfishers.com
SUMMARY:Santa Rita Ranch Fish Survey Saturday June 8th 7AM
DESCRIPTION:Santa Rita Ranch Fish Survey June 8th\, 2024\, 7AM. \nDon’t forget to complete the Land Conservancy’s Annual Liability Waiver for 2024 before coming to SRR.  The Gate Keeper will be unable to admit you unless it has been submitted.  Additionally\, attendees are required to complete the fish survey after fishing.  Please read the SRR info on the club website before your first visit to SRR. \nWaiting lists are available for each event in case of cancellations.   To place your name on the waiting list contact the organizer/gatekeeper for that event.  If you cannot attend\, please inform the gatekeeper ASAP so your spot can be filled. \nPlease limit your SRR signups to once per month.  Additional outings are allowed space permitting via the waiting list. \nRSVPs close at midnight two days before the event.
URL:https://www.santaluciaflyfishers.com/event/santa-rita-ranch-fish-survey-saturday-june-8th-7am
LOCATION:SRR – Members only event\, 3520 Old Creek Rd.\, Templeton\, CA\, 93465\, United States
CATEGORIES:SRR
END:VEVENT
END:VCALENDAR