BEGIN:VCALENDAR
VERSION:2.0
PRODID:-//Santa Lucia Fly Fishers Club - ECPv6.15.20//NONSGML v1.0//EN
CALSCALE:GREGORIAN
METHOD:PUBLISH
X-WR-CALNAME:Santa Lucia Fly Fishers Club
X-ORIGINAL-URL:https://www.santaluciaflyfishers.com
X-WR-CALDESC:Events for Santa Lucia Fly Fishers Club
REFRESH-INTERVAL;VALUE=DURATION:PT1H
X-Robots-Tag:noindex
X-PUBLISHED-TTL:PT1H
BEGIN:VTIMEZONE
TZID:America/Los_Angeles
BEGIN:DAYLIGHT
TZOFFSETFROM:-0800
TZOFFSETTO:-0700
TZNAME:PDT
DTSTART:20220313T100000
END:DAYLIGHT
BEGIN:STANDARD
TZOFFSETFROM:-0700
TZOFFSETTO:-0800
TZNAME:PST
DTSTART:20221106T090000
END:STANDARD
BEGIN:DAYLIGHT
TZOFFSETFROM:-0800
TZOFFSETTO:-0700
TZNAME:PDT
DTSTART:20230312T100000
END:DAYLIGHT
BEGIN:STANDARD
TZOFFSETFROM:-0700
TZOFFSETTO:-0800
TZNAME:PST
DTSTART:20231105T090000
END:STANDARD
BEGIN:DAYLIGHT
TZOFFSETFROM:-0800
TZOFFSETTO:-0700
TZNAME:PDT
DTSTART:20240310T100000
END:DAYLIGHT
BEGIN:STANDARD
TZOFFSETFROM:-0700
TZOFFSETTO:-0800
TZNAME:PST
DTSTART:20241103T090000
END:STANDARD
END:VTIMEZONE
BEGIN:VEVENT
DTSTART;TZID=America/Los_Angeles:20230607T070000
DTEND;TZID=America/Los_Angeles:20230607T130000
DTSTAMP:20260424T192308
CREATED:20230529T204741Z
LAST-MODIFIED:20230531T001843Z
UID:10000141-1686121200-1686142800@www.santaluciaflyfishers.com
SUMMARY:SRR 6/7/2023 7am
DESCRIPTION:SRR Wednesday June 7 at 7am \n 
URL:https://www.santaluciaflyfishers.com/event/srr-wednesday-june-7-at-7am
LOCATION:SRR – Members only event\, 3520 Old Creek Rd.\, Templeton\, CA\, 93465\, United States
CATEGORIES:SRR
END:VEVENT
BEGIN:VEVENT
DTSTART;TZID=America/Los_Angeles:20230617T080000
DTEND;TZID=America/Los_Angeles:20230617T140000
DTSTAMP:20260424T192308
CREATED:20230529T205211Z
LAST-MODIFIED:20230529T205211Z
UID:10000142-1686988800-1687010400@www.santaluciaflyfishers.com
SUMMARY:SRR 6/17/2023 at 8am
DESCRIPTION:SRR 6/17/2023 at 8am
URL:https://www.santaluciaflyfishers.com/event/srr-6-17-2023-at-8am
LOCATION:SRR – Members only event\, 3520 Old Creek Rd.\, Templeton\, CA\, 93465\, United States
CATEGORIES:SRR
END:VEVENT
BEGIN:VEVENT
DTSTART;TZID=America/Los_Angeles:20230621T070000
DTEND;TZID=America/Los_Angeles:20230621T130000
DTSTAMP:20260424T192308
CREATED:20230529T205852Z
LAST-MODIFIED:20230530T151008Z
UID:10000143-1687330800-1687352400@www.santaluciaflyfishers.com
SUMMARY:SRR 6/21/2023 at 7am
DESCRIPTION:SRR 6/21/2023 at 7am
URL:https://www.santaluciaflyfishers.com/event/srr-6-21-2023-at-7am
LOCATION:SRR – Members only event\, 3520 Old Creek Rd.\, Templeton\, CA\, 93465\, United States
CATEGORIES:SRR
END:VEVENT
BEGIN:VEVENT
DTSTART;TZID=America/Los_Angeles:20230628T070000
DTEND;TZID=America/Los_Angeles:20230628T130000
DTSTAMP:20260424T192308
CREATED:20230529T210200Z
LAST-MODIFIED:20230531T001929Z
UID:10000144-1687935600-1687957200@www.santaluciaflyfishers.com
SUMMARY:SRR 6/28/2023 at 7am.
DESCRIPTION:SRR 6/28/2023 at 7am
URL:https://www.santaluciaflyfishers.com/event/srr-6-28-2023-at-7am
LOCATION:SRR – Members only event\, 3520 Old Creek Rd.\, Templeton\, CA\, 93465\, United States
CATEGORIES:SRR
END:VEVENT
END:VCALENDAR